OziExplorer Map Data File Version 2.2
Kitonot_skleika_2km.jpg
D:\Program Files\oziexplorer\Maps\kitoi2005\kitonot_skleika_2km.jpg
1 ,Map Code,
Pulkovo 1942,WGS 84, 0.0000, 0.0000,WGS 84
Reserved 1
Reserved 2
Magnetic Variation,,,E
Map Projection,Transverse Mercator,PolyCal,No,AutoCalOnly,No,BSBUseWPX,No
Point01,xy, 1096, 1433,in, deg, 52, 2.8230,N, 101, 31.2750,E, grid, , , ,N
Point02,xy, 1268, 330,in, deg, 52, 23.0960,N, 101, 36.3060,E, grid, , , ,N
Point03,xy, 190, 1450,in, deg, 52, 2.7520,N, 101, 4.2910,E, grid, , , ,N
Point04,xy, 107, 221,in, deg, 52, 24.8990,N, 101, 1.5210,E, grid, , , ,N
Point05,xy, 786, 736,in, deg, 52, 15.6660,N, 101, 21.9290,E, grid, , , ,N
Point06,xy, 1805, 1365,in, deg, 52, 4.2629,N, 101, 52.3908,E, grid, , , ,N
Point07,xy, 53, 1581,in, deg, 52, 0.0000,N, 101, 0.0000,E, grid, , , ,N
Point08,xy, 2037, 1115,in, deg, 52, 8.8435,N, 101, 59.2136,E, grid, , , ,N
Point09,xy, , ,ex, deg, , ,N, , ,E, grid, , , ,N
Point10,xy, , ,in, deg, , ,N, , ,W, grid, , , ,N
Point11,xy, , ,in, deg, , ,N, , ,W, grid, , , ,N
Point12,xy, , ,in, deg, , ,N, , ,W, grid, , , ,N
Point13,xy, , ,in, deg, , ,N, , ,W, grid, , , ,N
Point14,xy, , ,in, deg, , ,N, , ,W, grid, , , ,N
Point15,xy, , ,in, deg, , ,N, , ,W, grid, , , ,N
Point16,xy, , ,in, deg, , ,N, , ,W, grid, , , ,N
Point17,xy, , ,in, deg, , ,N, , ,W, grid, , , ,N
Point18,xy, , ,in, deg, , ,N, , ,W, grid, , , ,N
Point19,xy, , ,in, deg, , ,N, , ,W, grid, , , ,N
Point20,xy, , ,in, deg, , ,N, , ,W, grid, , , ,N
Point21,xy, , ,in, deg, , ,N, , ,W, grid, , , ,N
Point22,xy, , ,in, deg, , ,N, , ,W, grid, , , ,N
Point23,xy, , ,in, deg, , ,N, , ,W, grid, , , ,N
Point24,xy, , ,in, deg, , ,N, , ,W, grid, , , ,N
Point25,xy, , ,in, deg, , ,N, , ,W, grid, , , ,N
Point26,xy, , ,in, deg, , ,N, , ,W, grid, , , ,N
Point27,xy, , ,in, deg, , ,N, , ,W, grid, , , ,N
Point28,xy, , ,in, deg, , ,N, , ,W, grid, , , ,N
Point29,xy, , ,in, deg, , ,N, , ,W, grid, , , ,N
Point30,xy, , ,in, deg, , ,N, , ,W, grid, , , ,N
Projection Setup, 0.000000000, 99.000000000, 1.000000000, 500000.00, 0.00,,,,,
Map Feature = MF ; Map Comment = MC These follow if they exist
Track File = TF These follow if they exist
Moving Map Parameters = MM? These follow if they exist
MM0,Yes
MMPNUM,4
MMPXY,1,0,0
MMPXY,2,3300,0
MMPXY,3,3300,2300
MMPXY,4,0,2300
MMPLL,1, 100.970309, 52.482290
MMPLL,2, 102.624971, 52.483033
MMPLL,3, 102.607859, 51.784288
MMPLL,4, 100.978915, 51.783116
MM1B,34.039628
LL Grid Setup
LLGRID,Yes,10 Min,Yes,255,255,0,10 Min,0,16777215,10,1,Yes,x
Other Grid Setup
GRGRID,Yes,4 Km,Yes,0,255,4 Km,0,16777215,6,1,Yes,Yes,No,x
MOP,Map Open Position,0,0
IWH,Map Image Width/Height,3300,2300
